PDS_VERSION_ID = PDS3
/* Identification Information */
NOT_APPLICABLE_CONSTANT = -9998
DATA_SET_ID = "MRO-M-HIRISE-3-RDR-V1.1"
DATA_SET_NAME = "MRO MARS HIGH RESOLUTION IMAGING SCIENCE EXPERIMENT RDR V1.1"
PRODUCER_INSTITUTION_NAME = "UNIVERSITY OF ARIZONA"
PRODUCER_ID = "UA"
PRODUCER_FULL_NAME = "ALFRED MCEWEN"
OBSERVATION_ID = "ESP_022359_1030"
PRODUCT_ID = "ESP_022359_1030_RED"
PRODUCT_VERSION_ID = "1.0"
INSTRUMENT_HOST_NAME = "MARS RECONNAISSANCE ORBITER"
INSTRUMENT_HOST_ID = "MRO"
INSTRUMENT_NAME = "HIGH RESOLUTION IMAGING SCIENCE EXPERIMENT"
INSTRUMENT_ID = "HIRISE"
TARGET_NAME = "MARS"
MISSION_PHASE_NAME = "EXTENDED SCIENCE PHASE"
ORBIT_NUMBER = 22359
SOURCE_PRODUCT_ID = (ESP_022359_1030_RED0_0, ESP_022359_1030_RED0_1, ESP_022359_1030_RED1_0, ESP_022359_1030_RED1_1, ESP_022359_1030_RED2_0, ESP_022359_1030_RED2_1, ESP_022359_1030_RED3_0, ESP_022359_1030_RED3_1, ESP_022359_1030_RED4_0, ESP_022359_1030_RED4_1, ESP_022359_1030_RED5_0, ESP_022359_1030_RED5_1, ESP_022359_1030_RED6_0, ESP_022359_1030_RED6_1, ESP_022359_1030_RED7_0, ESP_022359_1030_RED7_1, ESP_022359_1030_RED8_0, ESP_022359_1030_RED8_1, ESP_022359_1030_RED9_0, ESP_022359_1030_RED9_1)
RATIONALE_DESC = "Dune monitoring"
SOFTWARE_NAME = "PDS_to_JP2 v3.18 (1.52 2010/11/24 03:32:30)"
OBJECT = IMAGE_MAP_PROJECTION
  ^DATA_SET_MAP_PROJECTION = "DSMAP.CAT"
  MAP_PROJECTION_TYPE = "POLAR STEREOGRAPHIC"
  PROJECTION_LATITUDE_TYPE = PLANETOCENTRIC
  A_AXIS_RADIUS = 3396.19
  B_AXIS_RADIUS = 3396.19
  C_AXIS_RADIUS = 3376.2
  COORDINATE_SYSTEM_NAME = PLANETOCENTRIC
  POSITIVE_LONGITUDE_DIRECTION = EAST
  KEYWORD_LATITUDE_TYPE = PLANETOCENTRIC
  /* NOTE: CENTER_LATITUDE and CENTER_LONGITUDE describe the location */
  /* of the center of projection, which is not necessarily equal to the */
  /* location of the center point of the image. */
  CENTER_LATITUDE = -90.000
  CENTER_LONGITUDE = 0.000
  LINE_FIRST_PIXEL = 1
  LINE_LAST_PIXEL = 44933
  SAMPLE_FIRST_PIXEL = 1
  SAMPLE_LAST_PIXEL = 37656
  MAP_PROJECTION_ROTATION = 0.0
  MAP_RESOLUTION = 235703.22482333
  MAP_SCALE = 0.25
  MAXIMUM_LATITUDE = -76.689260754328
  MINIMUM_LATITUDE = -76.872466375998
  LINE_PROJECTION_OFFSET = -2260514.5
  SAMPLE_PROJECTION_OFFSET = 2159612.5
  EASTERNMOST_LONGITUDE = 223.42320539052
  WESTERNMOST_LONGITUDE = 222.89732701281
END_OBJECT = IMAGE_MAP_PROJECTION
/* All xxx_COUNT values are for the MRO spacecraft clock (SCLK) */
/* in seconds:subseconds form. A subsecond tick = 15.2588 microseconds. */
/* All xxx_TIME values are referenced to UTC. */
GROUP = TIME_PARAMETERS
  /* Time when the observation first started */
  MRO:OBSERVATION_START_TIME = 2011-05-04T17:13:32.540
  /* Time of the first image line */
  START_TIME = 2011-05-04T17:13:32.658
  SPACECRAFT_CLOCK_START_COUNT = "988996444:50582"
  /* Time of the last image line */
  STOP_TIME = 2011-05-04T17:13:35.793
  SPACECRAFT_CLOCK_STOP_COUNT = "988996447:59458"
  /* Time when this RDR product was created */
  PRODUCT_CREATION_TIME = 2011-05-12T21:22:09
END_GROUP = TIME_PARAMETERS
GROUP = INSTRUMENT_SETTING_PARAMETERS
  MRO:CCD_FLAG = (ON, ON, ON, ON, ON, ON, ON, ON, ON, ON, ON, ON, ON, ON)
  MRO:BINNING = (1, 1, 1, 1, 1, 1, 1, 1, 1, 1, -9998, -9998, -9998, -9998)
  MRO:TDI = (128, 128, 128, 128, 128, 128, 128, 128, 128, 128, -9998, -9998, -9998, -9998)
  MRO:SPECIAL_PROCESSING_FLAG = (CUBENORM, CUBENORM, CUBENORM, CUBENORM, CUBENORM, CUBENORM, CUBENORM, CUBENORM, CUBENORM, CUBENORM, "NULL", "NULL", "NULL", "NULL")
END_GROUP = INSTRUMENT_SETTING_PARAMETERS
GROUP = VIEWING_PARAMETERS
  INCIDENCE_ANGLE = 57.677157
  EMISSION_ANGLE = 1.351298
  PHASE_ANGLE = 56.858027
  LOCAL_TIME = 15.26202
  SOLAR_LONGITUDE = 286.384143
  SUB_SOLAR_AZIMUTH = 78.635203
  NORTH_AZIMUTH = 133.160266
END_GROUP = VIEWING_PARAMETERS
/* The JPEG2000 image data file associated with this label. */
OBJECT = COMPRESSED_FILE
  FILE_NAME = "ESP_022359_1030_RED.JP2"
  RECORD_TYPE = UNDEFINED
  ENCODING_TYPE = "JP2"
  ENCODING_TYPE_VERSION_NAME = "ISO/IEC15444-1:2004"
  INTERCHANGE_FORMAT = BINARY
  /* The name of the original source file. */
  UNCOMPRESSED_FILE_NAME = "ESP_022359_1030_RED.IMG"
  /* The amount of original image data. */
  REQUIRED_STORAGE_BYTES = 3383994096
  ^DESCRIPTION = "JP2INFO.TXT"
END_OBJECT = COMPRESSED_FILE
/* The source image data definition. */
OBJECT = UNCOMPRESSED_FILE
  FILE_NAME = "ESP_022359_1030_RED.IMG"
  RECORD_TYPE = FIXED_LENGTH
  RECORD_BYTES = 75312
  FILE_RECORDS = 44933
  ^IMAGE = "ESP_022359_1030_RED.IMG"
  OBJECT = IMAGE
    DESCRIPTION = "HiRISE projected and mosaicked product"
    LINES = 44933
    LINE_SAMPLES = 37656
    BANDS = 1
    SAMPLE_TYPE = MSB_UNSIGNED_INTEGER
    SAMPLE_BITS = 16
    SAMPLE_BIT_MASK = 2#0000001111111111#
    /* NOTE: The conversion from DN to I/F (intensity/flux) is: */
    /* I/F = (DN * SCALING_FACTOR) + OFFSET */
    /* I/F is defined as the ratio of the observed radiance and */
    /* the radiance of a 100% lambertian reflector with the sun */
    /* and camera orthogonal to the observing surface. */
    SCALING_FACTOR = 3.2564047151277e-05
    OFFSET = 0.070874107858546
    BAND_STORAGE_TYPE = BAND_SEQUENTIAL
    CORE_NULL = 0
    CORE_LOW_REPR_SATURATION = 1
    CORE_LOW_INSTR_SATURATION = 2
    CORE_HIGH_REPR_SATURATION = 1023
    CORE_HIGH_INSTR_SATURATION = 1022
    CENTER_FILTER_WAVELENGTH = 700
    MRO:MINIMUM_STRETCH = 3
    MRO:MAXIMUM_STRETCH = 1021
    FILTER_NAME = "RED"
  END_OBJECT = IMAGE
END_OBJECT = UNCOMPRESSED_FILE
END
