PDS_VERSION_ID = PDS3
/* Identification Information */
NOT_APPLICABLE_CONSTANT = -9998
DATA_SET_ID = "MRO-M-HIRISE-3-RDR-V1.1"
DATA_SET_NAME = "MRO MARS HIGH RESOLUTION IMAGING SCIENCE EXPERIMENT RDR V1.1"
PRODUCER_INSTITUTION_NAME = "UNIVERSITY OF ARIZONA"
PRODUCER_ID = "UA"
PRODUCER_FULL_NAME = "ALFRED MCEWEN"
OBSERVATION_ID = "ESP_086994_2620"
PRODUCT_ID = "ESP_086994_2620_RED"
PRODUCT_VERSION_ID = "1.0"
INSTRUMENT_HOST_NAME = "MARS RECONNAISSANCE ORBITER"
INSTRUMENT_HOST_ID = "MRO"
INSTRUMENT_NAME = "HIGH RESOLUTION IMAGING SCIENCE EXPERIMENT"
INSTRUMENT_ID = "HIRISE"
TARGET_NAME = "MARS"
MISSION_PHASE_NAME = "EXTENDED SCIENCE PHASE"
ORBIT_NUMBER = 86994
SOURCE_PRODUCT_ID = (ESP_086994_2620_RED0_0, ESP_086994_2620_RED0_1, ESP_086994_2620_RED1_0, ESP_086994_2620_RED1_1, ESP_086994_2620_RED2_0, ESP_086994_2620_RED2_1, ESP_086994_2620_RED3_0, ESP_086994_2620_RED3_1, ESP_086994_2620_RED4_0, ESP_086994_2620_RED4_1, ESP_086994_2620_RED5_0, ESP_086994_2620_RED5_1, ESP_086994_2620_RED6_0, ESP_086994_2620_RED6_1, ESP_086994_2620_RED7_0, ESP_086994_2620_RED7_1, ESP_086994_2620_RED8_0, ESP_086994_2620_RED8_1)
RATIONALE_DESC = "Monitoring evolution of north polar residual cap"
SOFTWARE_NAME = "PDS_to_JP2 v4.5.1 (1.56 2016/09/26 23:05:38)"
OBJECT = IMAGE_MAP_PROJECTION
  ^DATA_SET_MAP_PROJECTION = "DSMAP.CAT"
  MAP_PROJECTION_TYPE = "POLAR STEREOGRAPHIC"
  PROJECTION_LATITUDE_TYPE = PLANETOCENTRIC
  A_AXIS_RADIUS = 3396.19
  B_AXIS_RADIUS = 3396.19
  C_AXIS_RADIUS = 3376.2
  COORDINATE_SYSTEM_NAME = PLANETOCENTRIC
  POSITIVE_LONGITUDE_DIRECTION = EAST
  KEYWORD_LATITUDE_TYPE = PLANETOCENTRIC
  /* NOTE: CENTER_LATITUDE and CENTER_LONGITUDE describe the location */
  /* of the center of projection, which is not necessarily equal to the */
  /* location of the center point of the image. */
  CENTER_LATITUDE = 90.000
  CENTER_LONGITUDE = 0.000
  LINE_FIRST_PIXEL = 1
  LINE_LAST_PIXEL = 43676
  SAMPLE_FIRST_PIXEL = 1
  SAMPLE_LAST_PIXEL = 42870
  MAP_PROJECTION_ROTATION = 0.0
  MAP_RESOLUTION = 235703.22482333
  MAP_SCALE = 0.25
  MAXIMUM_LATITUDE = 82.129223790942
  MINIMUM_LATITUDE = 81.94264893358
  LINE_PROJECTION_OFFSET = -1745028.5
  SAMPLE_PROJECTION_OFFSET = -621427.5
  EASTERNMOST_LONGITUDE = 20.539873665239
  WESTERNMOST_LONGITUDE = 19.43971944168
END_OBJECT = IMAGE_MAP_PROJECTION
/* All xxx_COUNT values are for the MRO spacecraft clock (SCLK) */
/* in seconds:subseconds form. A subsecond tick = 15.2588 microseconds. */
/* All xxx_TIME values are referenced to UTC. */
GROUP = TIME_PARAMETERS
  /* Time when the observation first started */
  MRO:OBSERVATION_START_TIME = 2025-02-15T22:38:23.830
  /* Time of the first image line */
  START_TIME = 2025-02-15T22:38:23.988
  SPACECRAFT_CLOCK_START_COUNT = "1424126365:08503"
  /* Time of the last image line */
  STOP_TIME = 2025-02-15T22:38:27.114
  SPACECRAFT_CLOCK_STOP_COUNT = "1424126368:16746"
  /* Time when this RDR product was created */
  PRODUCT_CREATION_TIME = 2025-02-20T05:16:13
END_GROUP = TIME_PARAMETERS
GROUP = INSTRUMENT_SETTING_PARAMETERS
  MRO:CCD_FLAG = (ON, ON, ON, ON, ON, ON, ON, ON, ON, OFF, ON, ON, ON, ON)
  MRO:BINNING = (2, 2, 2, 2, 1, 1, 1, 2, 2, -9998, -9998, -9998, -9998, -9998)
  MRO:TDI = (64, 64, 64, 64, 128, 128, 128, 64, 64, -9998, -9998, -9998, -9998, -9998)
  MRO:SPECIAL_PROCESSING_FLAG = (CUBENORM, CUBENORM, CUBENORM, CUBENORM, CUBENORM, CUBENORM, CUBENORM, CUBENORM, CUBENORM, "NULL", "NULL", "NULL", "NULL", "NULL")
END_GROUP = INSTRUMENT_SETTING_PARAMETERS
GROUP = VIEWING_PARAMETERS
  INCIDENCE_ANGLE = 65.337228
  EMISSION_ANGLE = 3.986995
  PHASE_ANGLE = 68.328630
  LOCAL_TIME = 13.53607
  SOLAR_LONGITUDE = 44.784698
  SUB_SOLAR_AZIMUTH = 94.286329
  NORTH_AZIMUTH = 250.010203
END_GROUP = VIEWING_PARAMETERS
/* The JPEG2000 image data file associated with this label. */
OBJECT = COMPRESSED_FILE
  FILE_NAME = "ESP_086994_2620_RED.JP2"
  RECORD_TYPE = UNDEFINED
  ENCODING_TYPE = "JP2"
  ENCODING_TYPE_VERSION_NAME = "ISO/IEC15444-1:2004"
  INTERCHANGE_FORMAT = BINARY
  /* The name of the original source file. */
  UNCOMPRESSED_FILE_NAME = "ESP_086994_2620_RED.IMG"
  /* The amount of original image data. */
  REQUIRED_STORAGE_BYTES = 3744780240
  ^DESCRIPTION = "JP2INFO.TXT"
END_OBJECT = COMPRESSED_FILE
/* The source image data definition. */
OBJECT = UNCOMPRESSED_FILE
  FILE_NAME = "ESP_086994_2620_RED.IMG"
  RECORD_TYPE = FIXED_LENGTH
  RECORD_BYTES = 85740
  FILE_RECORDS = 43676
  ^IMAGE = "ESP_086994_2620_RED.IMG"
  OBJECT = IMAGE
    DESCRIPTION = "HiRISE projected and mosaicked product"
    LINES = 43676
    LINE_SAMPLES = 42870
    BANDS = 1
    SAMPLE_TYPE = MSB_UNSIGNED_INTEGER
    SAMPLE_BITS = 16
    SAMPLE_BIT_MASK = 2#0000001111111111#
    /* NOTE: The conversion from DN to I/F (intensity/flux) is: */
    /* I/F = (DN * SCALING_FACTOR) + OFFSET */
    /* I/F is defined as the ratio of the observed radiance and */
    /* the radiance of a 100% lambertian reflector with the sun */
    /* and camera orthogonal to the observing surface. */
    SCALING_FACTOR = 1.54056974459725e-05
    OFFSET = 0.12419978290766
    BAND_STORAGE_TYPE = BAND_SEQUENTIAL
    CORE_NULL = 0
    CORE_LOW_REPR_SATURATION = 1
    CORE_LOW_INSTR_SATURATION = 2
    CORE_HIGH_REPR_SATURATION = 1023
    CORE_HIGH_INSTR_SATURATION = 1022
    CENTER_FILTER_WAVELENGTH = 700
    MRO:MINIMUM_STRETCH = 3
    MRO:MAXIMUM_STRETCH = 1021
    FILTER_NAME = "RED"
  END_OBJECT = IMAGE
END_OBJECT = UNCOMPRESSED_FILE
END
