PDS_VERSION_ID = PDS3
/* Identification Information */
DATA_SET_ID = "MRO-M-CTX-HiROC-V1.0"
PRODUCT_ID = "B11_014072_1742_XN_05S348W"
PRODUCER_INSTITUTION_NAME = "UNIVERSITY OF ARIZONA"
PRDOUCER_ID = "UA"
PRODUCER_FULL_NAME = "ALFRED MCEWEN"
SOURCE_PRODUCT_ID = NULL
MISSION_NAME = "MARS RECONNAISSANCE ORBITER"
SPACECRAFT_NAME = "MARS RECONNAISSANCE ORBITER"
INSTRUMENT_NAME = "CONTEXT CAMERA"
INSTRUMENT_ID = "MRO-CTX"
TARGET_NAME = "Mars"
START_TIME = "2009-07-28T00:04:50.601"
ORBIT_NUMBER = 14072
SPACECRAFT_CLOCK_START_COUNT = "0933206713:012"
PRODUCT_CREATION_TIME = 2012-01-06T00:48:34
SOFTWARE_NAME = "CTX_Finalizer (1.7 2011/06/20 22:58:41)"
NOTE = "Special map product for HiROC"
OBJECT = IMAGE_MAP_PROJECTION
  MAP_PROJECTION_TYPE = "EQUIRECTANGULAR"
  PROJECTION_LATITUDE_TYPE = PLANETOCENTRIC
  A_AXIS_RADIUS = 3396.19
  B_AXIS_RADIUS = 3396.19
  C_AXIS_RADIUS = 3376.2
  FIRST_STANDARD_PARALLEL = "N/A"
  SECOND_STANDARD_PARALLEL = "N/A"
  COORDINATE_SYSTEM_NAME = PLANETOCENTRIC
  POSITIVE_LONGITUDE_DIRECTION = EAST
  KEYWORD_LATITUDE_TYPE = PLANETOCENTRIC
  CENTER_LATITUDE = -5
  CENTER_LONGITUDE = 0.0
  LINE_FIRST_PIXEL = 1
  LINE_LAST_PIXEL = 24990
  SAMPLE_FIRST_PIXEL = 1
  SAMPLE_LAST_PIXEL = 8218
  MAP_PROJECTION_ROTATION = 0.0
  MAP_RESOLUTION = 11854.404779769
  MAP_SCALE = 0.005
  MAXIMUM_LATITUDE = -4.7244717436628
  MINIMUM_LATITUDE = -6.8324686771837
  EASTERNMOST_LONGITUDE = 11.662418215846
  WESTERNMOST_LONGITUDE = 10.966565410846
  LINE_PROJECTION_OFFSET = -56004.5
  SAMPLE_PROJECTION_OFFSET = -129506.5
END_OBJECT = IMAGE_MAP_PROJECTION
/* The JPEG2000 image data file associated with this label. */
OBJECT = COMPRESSED_FILE
  FILE_NAME = "B11_014072_1742_XN_05S348W.JP2"
  RECORD_TYPE = UNDEFINED
  ENCODING_TYPE = "JP2"
  ENCODING_TYPE_VERSION_NAME = "ISO/IEC15444-1:2004"
  INTERCHANGE_FORMAT = BINARY
  /* The name of the original source file. */
  UNCOMPRESSED_FILE_NAME = "B11_014072_1742_XN_05S348W.17431.img"
  /* The amount of original image data. */
  REQUIRED_STORAGE_BYTES = 205367820
  ^DESCRIPTION = "JP2INFO.TXT"
END_OBJECT = COMPRESSED_FILE
/* The source image data definition. */
OBJECT = UNCOMPRESSED_FILE
  FILE_NAME = "B11_014072_1742_XN_05S348W.17431.img"
  RECORD_TYPE = FIXED_LENGTH
  RECORD_BYTES = 8218
  FILE_RECORDS = 24990
  ^IMAGE = "B11_014072_1742_XN_05S348W.17431.img"
  OBJECT = IMAGE
    LINES = 24990
    LINE_SAMPLES = 8218
    BANDS = 1
    CENTER_FILTER_WAVELENGTH = 0.65
    BANDWIDTH = 0.15
    BAND_STORAGE_TYPE = BAND_SEQUENTIAL
    OFFSET = 0.095039842007507
    SCALING_FACTOR = 2.27343979334995e-04
    SAMPLE_BITS = 8
    SAMPLE_BIT_MASK = 2#11111111#
    SAMPLE_TYPE = MSB_UNSIGNED_INTEGER
    CORE_NULL = 0
    CORE_LOW_REPR_SATURATION = 1
    CORE_LOW_INSTR_SATURATION = 1
    CORE_HIGH_REPR_SATURATION = 255
    CORE_HIGH_INSTR_SATURATION = 255
  END_OBJECT = IMAGE
END_OBJECT = UNCOMPRESSED_FILE
END
