PDS_VERSION_ID = PDS3
/* Identification Information */
DATA_SET_ID = "MRO-M-CTX-HiROC-V1.0"
PRODUCT_ID = "F16_042239_1672_XN_12S006W"
PRODUCER_INSTITUTION_NAME = "UNIVERSITY OF ARIZONA"
PRDOUCER_ID = "UA"
PRODUCER_FULL_NAME = "ALFRED MCEWEN"
SOURCE_PRODUCT_ID = NULL
MISSION_NAME = "MARS RECONNAISSANCE ORBITER"
SPACECRAFT_NAME = "MARS RECONNAISSANCE ORBITER"
INSTRUMENT_NAME = "CONTEXT CAMERA"
INSTRUMENT_ID = "MRO-CTX"
TARGET_NAME = "MARS"
START_TIME = "2015-07-31T18:34:53.467"
ORBIT_NUMBER = 42239
SPACECRAFT_CLOCK_START_COUNT = "1122834934:145"
PRODUCT_CREATION_TIME = 2016-05-19T13:04:01
SOFTWARE_NAME = "CTX_Finalizer (1.8 2012/07/11 19:12:08)"
NOTE = "Special map product for HiROC"
OBJECT = IMAGE_MAP_PROJECTION
  MAP_PROJECTION_TYPE = "EQUIRECTANGULAR"
  PROJECTION_LATITUDE_TYPE = PLANETOCENTRIC
  A_AXIS_RADIUS = 3396.19
  B_AXIS_RADIUS = 3396.19
  C_AXIS_RADIUS = 3376.2
  FIRST_STANDARD_PARALLEL = "N/A"
  SECOND_STANDARD_PARALLEL = "N/A"
  COORDINATE_SYSTEM_NAME = PLANETOCENTRIC
  POSITIVE_LONGITUDE_DIRECTION = EAST
  KEYWORD_LATITUDE_TYPE = PLANETOCENTRIC
  CENTER_LATITUDE = -10
  CENTER_LONGITUDE = 353.63109330446
  LINE_FIRST_PIXEL = 1
  LINE_LAST_PIXEL = 57823
  SAMPLE_FIRST_PIXEL = 1
  SAMPLE_LAST_PIXEL = 10828
  MAP_PROJECTION_ROTATION = 0.0
  MAP_RESOLUTION = 11852.817278819
  MAP_SCALE = 0.005
  MAXIMUM_LATITUDE = -10.078306366099
  MINIMUM_LATITUDE = -14.95667440674
  EASTERNMOST_LONGITUDE = 354.09489081499
  WESTERNMOST_LONGITUDE = 353.16729579393
  LINE_PROJECTION_OFFSET = -119455.5
  SAMPLE_PROJECTION_OFFSET = 5414.5
END_OBJECT = IMAGE_MAP_PROJECTION
/* The JPEG2000 image data file associated with this label. */
OBJECT = COMPRESSED_FILE
  FILE_NAME = "F16_042239_1672_XN_12S006W.JP2"
  RECORD_TYPE = UNDEFINED
  ENCODING_TYPE = "JP2"
  ENCODING_TYPE_VERSION_NAME = "ISO/IEC15444-1:2004"
  INTERCHANGE_FORMAT = BINARY
  /* The name of the original source file. */
  UNCOMPRESSED_FILE_NAME = "F16_042239_1672_XN_12S006W.23416.img"
  /* The amount of original image data. */
  REQUIRED_STORAGE_BYTES = 626107444
  ^DESCRIPTION = "JP2INFO.TXT"
END_OBJECT = COMPRESSED_FILE
/* The source image data definition. */
OBJECT = UNCOMPRESSED_FILE
  FILE_NAME = "F16_042239_1672_XN_12S006W.23416.img"
  RECORD_TYPE = FIXED_LENGTH
  RECORD_BYTES = 10828
  FILE_RECORDS = 57823
  ^IMAGE = "F16_042239_1672_XN_12S006W.23416.img"
  OBJECT = IMAGE
    LINES = 57823
    LINE_SAMPLES = 10828
    BANDS = 1
    CENTER_FILTER_WAVELENGTH = 0.65
    BANDWIDTH = 0.15
    BAND_STORAGE_TYPE = BAND_SEQUENTIAL
    OFFSET = 0.084334046393425
    SCALING_FACTOR = 2.47223156072894e-04
    SAMPLE_BITS = 8
    SAMPLE_BIT_MASK = 2#11111111#
    SAMPLE_TYPE = MSB_UNSIGNED_INTEGER
    CORE_NULL = 0
    CORE_LOW_REPR_SATURATION = 1
    CORE_LOW_INSTR_SATURATION = 1
    CORE_HIGH_REPR_SATURATION = 255
    CORE_HIGH_INSTR_SATURATION = 255
  END_OBJECT = IMAGE
END_OBJECT = UNCOMPRESSED_FILE
END
