PDS_VERSION_ID = PDS3
/* Identification Information */
DATA_SET_ID = "MRO-M-CTX-HiROC-V1.0"
PRODUCT_ID = "U16_077243_2284_XN_48N139W"
PRODUCER_INSTITUTION_NAME = "UNIVERSITY OF ARIZONA"
PRDOUCER_ID = "UA"
PRODUCER_FULL_NAME = "ALFRED MCEWEN"
SOURCE_PRODUCT_ID = NULL
MISSION_NAME = "MARS RECONNAISSANCE ORBITER"
SPACECRAFT_NAME = "MARS RECONNAISSANCE ORBITER"
INSTRUMENT_NAME = "CONTEXT CAMERA"
INSTRUMENT_ID = "MRO-CTX"
TARGET_NAME = "MARS"
START_TIME = "2023-01-18T02:39:13.320"
ORBIT_NUMBER = 77243
SPACECRAFT_CLOCK_START_COUNT = "1358476812:070"
PRODUCT_CREATION_TIME = 2023-09-09T05:59:11
SOFTWARE_NAME = "CTX_Finalizer (1.10 2020/04/29 05:19:10)"
NOTE = "Special map product for HiROC"
OBJECT = IMAGE_MAP_PROJECTION
  MAP_PROJECTION_TYPE = "EQUIRECTANGULAR"
  PROJECTION_LATITUDE_TYPE = PLANETOCENTRIC
  A_AXIS_RADIUS = 3396.19
  B_AXIS_RADIUS = 3396.19
  C_AXIS_RADIUS = 3376.2
  FIRST_STANDARD_PARALLEL = "N/A"
  SECOND_STANDARD_PARALLEL = "N/A"
  COORDINATE_SYSTEM_NAME = PLANETOCENTRIC
  POSITIVE_LONGITUDE_DIRECTION = EAST
  KEYWORD_LATITUDE_TYPE = PLANETOCENTRIC
  CENTER_LATITUDE = 45
  CENTER_LONGITUDE = 220.58815580763
  LINE_FIRST_PIXEL = 1
  LINE_LAST_PIXEL = 61684
  SAMPLE_FIRST_PIXEL = 1
  SAMPLE_LAST_PIXEL = 14214
  MAP_PROJECTION_ROTATION = 0.0
  MAP_RESOLUTION = 11819.895900815
  MAP_SCALE = 0.005
  MAXIMUM_LATITUDE = 50.774226643356
  MINIMUM_LATITUDE = 45.555650343082
  EASTERNMOST_LONGITUDE = 221.43848439564
  WESTERNMOST_LONGITUDE = 219.73782721962
  LINE_PROJECTION_OFFSET = 600146.5
  SAMPLE_PROJECTION_OFFSET = 7106.5
END_OBJECT = IMAGE_MAP_PROJECTION
/* The JPEG2000 image data file associated with this label. */
OBJECT = COMPRESSED_FILE
  FILE_NAME = "U16_077243_2284_XN_48N139W.JP2"
  RECORD_TYPE = UNDEFINED
  ENCODING_TYPE = "JP2"
  ENCODING_TYPE_VERSION_NAME = "ISO/IEC15444-1:2004"
  INTERCHANGE_FORMAT = BINARY
  /* The name of the original source file. */
  UNCOMPRESSED_FILE_NAME = "U16_077243_2284_XN_48N139W.22459.img"
  /* The amount of original image data. */
  REQUIRED_STORAGE_BYTES = 876776376
  ^DESCRIPTION = "JP2INFO.TXT"
END_OBJECT = COMPRESSED_FILE
/* The source image data definition. */
OBJECT = UNCOMPRESSED_FILE
  FILE_NAME = "U16_077243_2284_XN_48N139W.22459.img"
  RECORD_TYPE = FIXED_LENGTH
  RECORD_BYTES = 14214
  FILE_RECORDS = 61684
  ^IMAGE = "U16_077243_2284_XN_48N139W.22459.img"
  OBJECT = IMAGE
    LINES = 61684
    LINE_SAMPLES = 14214
    BANDS = 1
    CENTER_FILTER_WAVELENGTH = 0.65
    BANDWIDTH = 0.15
    BAND_STORAGE_TYPE = BAND_SEQUENTIAL
    OFFSET = 0.079510475758894
    SCALING_FACTOR = 2.9913202990733e-04
    SAMPLE_BITS = 8
    SAMPLE_BIT_MASK = 2#11111111#
    SAMPLE_TYPE = MSB_UNSIGNED_INTEGER
    CORE_NULL = 0
    CORE_LOW_REPR_SATURATION = 1
    CORE_LOW_INSTR_SATURATION = 1
    CORE_HIGH_REPR_SATURATION = 255
    CORE_HIGH_INSTR_SATURATION = 255
  END_OBJECT = IMAGE
END_OBJECT = UNCOMPRESSED_FILE
END
