PDS_VERSION_ID = PDS3
/* Identification Information */
DATA_SET_ID = "MRO-M-CTX-HiROC-V1.0"
PRODUCT_ID = "U19_078384_1507_XN_29S318W"
PRODUCER_INSTITUTION_NAME = "UNIVERSITY OF ARIZONA"
PRDOUCER_ID = "UA"
PRODUCER_FULL_NAME = "ALFRED MCEWEN"
SOURCE_PRODUCT_ID = NULL
MISSION_NAME = "MARS RECONNAISSANCE ORBITER"
SPACECRAFT_NAME = "MARS RECONNAISSANCE ORBITER"
INSTRUMENT_NAME = "CONTEXT CAMERA"
INSTRUMENT_ID = "MRO-CTX"
TARGET_NAME = "MARS"
START_TIME = "2023-04-17T00:01:53.210"
ORBIT_NUMBER = 78384
SPACECRAFT_CLOCK_START_COUNT = "1366156972:103"
PRODUCT_CREATION_TIME = 2023-12-09T00:59:59
SOFTWARE_NAME = "CTX_Finalizer (1.10 2020/04/29 05:19:10)"
NOTE = "Special map product for HiROC"
OBJECT = IMAGE_MAP_PROJECTION
  MAP_PROJECTION_TYPE = "EQUIRECTANGULAR"
  PROJECTION_LATITUDE_TYPE = PLANETOCENTRIC
  A_AXIS_RADIUS = 3396.19
  B_AXIS_RADIUS = 3396.19
  C_AXIS_RADIUS = 3376.2
  FIRST_STANDARD_PARALLEL = "N/A"
  SECOND_STANDARD_PARALLEL = "N/A"
  COORDINATE_SYSTEM_NAME = PLANETOCENTRIC
  POSITIVE_LONGITUDE_DIRECTION = EAST
  KEYWORD_LATITUDE_TYPE = PLANETOCENTRIC
  CENTER_LATITUDE = -25
  CENTER_LONGITUDE = 41.367514865351
  LINE_FIRST_PIXEL = 1
  LINE_LAST_PIXEL = 63168
  SAMPLE_FIRST_PIXEL = 1
  SAMPLE_LAST_PIXEL = 12786
  MAP_PROJECTION_ROTATION = 0.0
  MAP_RESOLUTION = 11842.385738967
  MAP_SCALE = 0.005
  MAXIMUM_LATITUDE = -26.363779153184
  MINIMUM_LATITUDE = -31.69786503143
  EASTERNMOST_LONGITUDE = 41.963149320074
  WESTERNMOST_LONGITUDE = 40.771880410628
  LINE_PROJECTION_OFFSET = -312210.5
  SAMPLE_PROJECTION_OFFSET = 6392.5
END_OBJECT = IMAGE_MAP_PROJECTION
/* The JPEG2000 image data file associated with this label. */
OBJECT = COMPRESSED_FILE
  FILE_NAME = "U19_078384_1507_XN_29S318W.JP2"
  RECORD_TYPE = UNDEFINED
  ENCODING_TYPE = "JP2"
  ENCODING_TYPE_VERSION_NAME = "ISO/IEC15444-1:2004"
  INTERCHANGE_FORMAT = BINARY
  /* The name of the original source file. */
  UNCOMPRESSED_FILE_NAME = "U19_078384_1507_XN_29S318W.122146.img"
  /* The amount of original image data. */
  REQUIRED_STORAGE_BYTES = 807666048
  ^DESCRIPTION = "JP2INFO.TXT"
END_OBJECT = COMPRESSED_FILE
/* The source image data definition. */
OBJECT = UNCOMPRESSED_FILE
  FILE_NAME = "U19_078384_1507_XN_29S318W.122146.img"
  RECORD_TYPE = FIXED_LENGTH
  RECORD_BYTES = 12786
  FILE_RECORDS = 63168
  ^IMAGE = "U19_078384_1507_XN_29S318W.122146.img"
  OBJECT = IMAGE
    LINES = 63168
    LINE_SAMPLES = 12786
    BANDS = 1
    CENTER_FILTER_WAVELENGTH = 0.65
    BANDWIDTH = 0.15
    BAND_STORAGE_TYPE = BAND_SEQUENTIAL
    OFFSET = 0.026426158502818
    SCALING_FACTOR = 2.35861525579049e-04
    SAMPLE_BITS = 8
    SAMPLE_BIT_MASK = 2#11111111#
    SAMPLE_TYPE = MSB_UNSIGNED_INTEGER
    CORE_NULL = 0
    CORE_LOW_REPR_SATURATION = 1
    CORE_LOW_INSTR_SATURATION = 1
    CORE_HIGH_REPR_SATURATION = 255
    CORE_HIGH_INSTR_SATURATION = 255
  END_OBJECT = IMAGE
END_OBJECT = UNCOMPRESSED_FILE
END
