PDS_VERSION_ID = PDS3
/* Identification Information */
DATA_SET_ID = "MRO-M-CTX-HiROC-V1.0"
PRODUCT_ID = "V01_080390_2223_XI_42N010W"
PRODUCER_INSTITUTION_NAME = "UNIVERSITY OF ARIZONA"
PRDOUCER_ID = "UA"
PRODUCER_FULL_NAME = "ALFRED MCEWEN"
SOURCE_PRODUCT_ID = NULL
MISSION_NAME = "MARS RECONNAISSANCE ORBITER"
SPACECRAFT_NAME = "MARS RECONNAISSANCE ORBITER"
INSTRUMENT_NAME = "CONTEXT CAMERA"
INSTRUMENT_ID = "MRO-CTX"
TARGET_NAME = "MARS"
START_TIME = "2023-09-20T07:40:11.141"
ORBIT_NUMBER = 80390
SPACECRAFT_CLOCK_START_COUNT = "1379662870:200"
PRODUCT_CREATION_TIME = 2024-06-13T04:32:05
SOFTWARE_NAME = "CTX_Finalizer (1.10 2020/04/29 05:19:10)"
NOTE = "Special map product for HiROC"
OBJECT = IMAGE_MAP_PROJECTION
  MAP_PROJECTION_TYPE = "EQUIRECTANGULAR"
  PROJECTION_LATITUDE_TYPE = PLANETOCENTRIC
  A_AXIS_RADIUS = 3396.19
  B_AXIS_RADIUS = 3396.19
  C_AXIS_RADIUS = 3376.2
  FIRST_STANDARD_PARALLEL = "N/A"
  SECOND_STANDARD_PARALLEL = "N/A"
  COORDINATE_SYSTEM_NAME = PLANETOCENTRIC
  POSITIVE_LONGITUDE_DIRECTION = EAST
  KEYWORD_LATITUDE_TYPE = PLANETOCENTRIC
  CENTER_LATITUDE = 40
  CENTER_LONGITUDE = 349.20036897235
  LINE_FIRST_PIXEL = 1
  LINE_LAST_PIXEL = 30374
  SAMPLE_FIRST_PIXEL = 1
  SAMPLE_LAST_PIXEL = 6515
  MAP_PROJECTION_ROTATION = 0.0
  MAP_RESOLUTION = 5912.9794323863
  MAP_SCALE = 0.01
  MAXIMUM_LATITUDE = 44.616061870898
  MINIMUM_LATITUDE = 39.479252669618
  EASTERNMOST_LONGITUDE = 349.91946235299
  WESTERNMOST_LONGITUDE = 348.4812755917
  LINE_PROJECTION_OFFSET = 263813.5
  SAMPLE_PROJECTION_OFFSET = 3257.5
END_OBJECT = IMAGE_MAP_PROJECTION
/* The JPEG2000 image data file associated with this label. */
OBJECT = COMPRESSED_FILE
  FILE_NAME = "V01_080390_2223_XI_42N010W.JP2"
  RECORD_TYPE = UNDEFINED
  ENCODING_TYPE = "JP2"
  ENCODING_TYPE_VERSION_NAME = "ISO/IEC15444-1:2004"
  INTERCHANGE_FORMAT = BINARY
  /* The name of the original source file. */
  UNCOMPRESSED_FILE_NAME = "V01_080390_2223_XI_42N010W.117255.img"
  /* The amount of original image data. */
  REQUIRED_STORAGE_BYTES = 197886610
  ^DESCRIPTION = "JP2INFO.TXT"
END_OBJECT = COMPRESSED_FILE
/* The source image data definition. */
OBJECT = UNCOMPRESSED_FILE
  FILE_NAME = "V01_080390_2223_XI_42N010W.117255.img"
  RECORD_TYPE = FIXED_LENGTH
  RECORD_BYTES = 6515
  FILE_RECORDS = 30374
  ^IMAGE = "V01_080390_2223_XI_42N010W.117255.img"
  OBJECT = IMAGE
    LINES = 30374
    LINE_SAMPLES = 6515
    BANDS = 1
    CENTER_FILTER_WAVELENGTH = 0.65
    BANDWIDTH = 0.15
    BAND_STORAGE_TYPE = BAND_SEQUENTIAL
    OFFSET = 0.078667793151506
    SCALING_FACTOR = 5.84585627820478e-04
    SAMPLE_BITS = 8
    SAMPLE_BIT_MASK = 2#11111111#
    SAMPLE_TYPE = MSB_UNSIGNED_INTEGER
    CORE_NULL = 0
    CORE_LOW_REPR_SATURATION = 1
    CORE_LOW_INSTR_SATURATION = 1
    CORE_HIGH_REPR_SATURATION = 255
    CORE_HIGH_INSTR_SATURATION = 255
  END_OBJECT = IMAGE
END_OBJECT = UNCOMPRESSED_FILE
END
