PDS_VERSION_ID = PDS3
/* Identification Information */
DATA_SET_ID = "MRO-M-CTX-HiROC-V1.0"
PRODUCT_ID = "V10_083948_1104_XN_69S293W"
PRODUCER_INSTITUTION_NAME = "UNIVERSITY OF ARIZONA"
PRDOUCER_ID = "UA"
PRODUCER_FULL_NAME = "ALFRED MCEWEN"
SOURCE_PRODUCT_ID = NULL
MISSION_NAME = "MARS RECONNAISSANCE ORBITER"
SPACECRAFT_NAME = "MARS RECONNAISSANCE ORBITER"
INSTRUMENT_NAME = "CONTEXT CAMERA"
INSTRUMENT_ID = "MRO-CTX"
TARGET_NAME = "MARS"
START_TIME = "2024-06-23T13:05:09.766"
ORBIT_NUMBER = 83948
SPACECRAFT_CLOCK_START_COUNT = "1403615170:052"
PRODUCT_CREATION_TIME = 2025-03-07T06:33:42
SOFTWARE_NAME = "CTX_Finalizer (1.10 2020/04/29 05:19:10)"
NOTE = "Special map product for HiROC"
OBJECT = IMAGE_MAP_PROJECTION
  MAP_PROJECTION_TYPE = "POLAR STEREOGRAPHIC"
  PROJECTION_LATITUDE_TYPE = PLANETOCENTRIC
  A_AXIS_RADIUS = 3396.19
  B_AXIS_RADIUS = 3396.19
  C_AXIS_RADIUS = 3376.2
  FIRST_STANDARD_PARALLEL = "N/A"
  SECOND_STANDARD_PARALLEL = "N/A"
  COORDINATE_SYSTEM_NAME = PLANETOCENTRIC
  POSITIVE_LONGITUDE_DIRECTION = EAST
  KEYWORD_LATITUDE_TYPE = PLANETOCENTRIC
  CENTER_LATITUDE = -90.0
  CENTER_LONGITUDE = 0.0
  LINE_FIRST_PIXEL = 1
  LINE_LAST_PIXEL = 9786
  SAMPLE_FIRST_PIXEL = 1
  SAMPLE_LAST_PIXEL = 11344
  MAP_PROJECTION_ROTATION = 0.0
  MAP_RESOLUTION = 11785.161241167
  MAP_SCALE = 0.005
  MAXIMUM_LATITUDE = -68.997757775591
  MINIMUM_LATITUDE = -69.893214382558
  EASTERNMOST_LONGITUDE = 67.365319080635
  WESTERNMOST_LONGITUDE = 65.810248642506
  LINE_PROJECTION_OFFSET = 102244.5
  SAMPLE_PROJECTION_OFFSET = -219015.5
END_OBJECT = IMAGE_MAP_PROJECTION
/* The JPEG2000 image data file associated with this label. */
OBJECT = COMPRESSED_FILE
  FILE_NAME = "V10_083948_1104_XN_69S293W.JP2"
  RECORD_TYPE = UNDEFINED
  ENCODING_TYPE = "JP2"
  ENCODING_TYPE_VERSION_NAME = "ISO/IEC15444-1:2004"
  INTERCHANGE_FORMAT = BINARY
  /* The name of the original source file. */
  UNCOMPRESSED_FILE_NAME = "V10_083948_1104_XN_69S293W.31533.img"
  /* The amount of original image data. */
  REQUIRED_STORAGE_BYTES = 111012384
  ^DESCRIPTION = "JP2INFO.TXT"
END_OBJECT = COMPRESSED_FILE
/* The source image data definition. */
OBJECT = UNCOMPRESSED_FILE
  FILE_NAME = "V10_083948_1104_XN_69S293W.31533.img"
  RECORD_TYPE = FIXED_LENGTH
  RECORD_BYTES = 11344
  FILE_RECORDS = 9786
  ^IMAGE = "V10_083948_1104_XN_69S293W.31533.img"
  OBJECT = IMAGE
    LINES = 9786
    LINE_SAMPLES = 11344
    BANDS = 1
    CENTER_FILTER_WAVELENGTH = 0.65
    BANDWIDTH = 0.15
    BAND_STORAGE_TYPE = BAND_SEQUENTIAL
    OFFSET = 0.089274206850574
    SCALING_FACTOR = 6.04741025450785e-05
    SAMPLE_BITS = 8
    SAMPLE_BIT_MASK = 2#11111111#
    SAMPLE_TYPE = MSB_UNSIGNED_INTEGER
    CORE_NULL = 0
    CORE_LOW_REPR_SATURATION = 1
    CORE_LOW_INSTR_SATURATION = 1
    CORE_HIGH_REPR_SATURATION = 255
    CORE_HIGH_INSTR_SATURATION = 255
  END_OBJECT = IMAGE
END_OBJECT = UNCOMPRESSED_FILE
END
